BEGIN:VCALENDAR
VERSION:2.0
PRODID:-//Carla van Wensen - ECPv6.15.20//NONSGML v1.0//EN
CALSCALE:GREGORIAN
METHOD:PUBLISH
X-WR-CALNAME:Carla van Wensen
X-ORIGINAL-URL:https://carlavanwensen.nl
X-WR-CALDESC:Evenementen voor Carla van Wensen
REFRESH-INTERVAL;VALUE=DURATION:PT1H
X-Robots-Tag:noindex
X-PUBLISHED-TTL:PT1H
BEGIN:VTIMEZONE
TZID:Europe/Amsterdam
BEGIN:DAYLIGHT
TZOFFSETFROM:+0100
TZOFFSETTO:+0200
TZNAME:CEST
DTSTART:20230326T010000
END:DAYLIGHT
BEGIN:STANDARD
TZOFFSETFROM:+0200
TZOFFSETTO:+0100
TZNAME:CET
DTSTART:20231029T010000
END:STANDARD
BEGIN:DAYLIGHT
TZOFFSETFROM:+0100
TZOFFSETTO:+0200
TZNAME:CEST
DTSTART:20240331T010000
END:DAYLIGHT
BEGIN:STANDARD
TZOFFSETFROM:+0200
TZOFFSETTO:+0100
TZNAME:CET
DTSTART:20241027T010000
END:STANDARD
BEGIN:DAYLIGHT
TZOFFSETFROM:+0100
TZOFFSETTO:+0200
TZNAME:CEST
DTSTART:20250330T010000
END:DAYLIGHT
BEGIN:STANDARD
TZOFFSETFROM:+0200
TZOFFSETTO:+0100
TZNAME:CET
DTSTART:20251026T010000
END:STANDARD
END:VTIMEZONE
BEGIN:VEVENT
DTSTART;VALUE=DATE:20241219
DTEND;VALUE=DATE:20241220
DTSTAMP:20260425T181955
CREATED:20241123T134912Z
LAST-MODIFIED:20241123T135107Z
UID:7861-1734566400-1734652799@carlavanwensen.nl
SUMMARY:Incompany dag Intraverte - Harderwijk
DESCRIPTION:
URL:https://carlavanwensen.nl/event/incompany-dag-intraverte-harderwijk/
ATTACH;FMTTYPE=image/png:https://carlavanwensen.nl/wp-content/uploads/2024/11/intraverte-logo-455715286.png
END:VEVENT
BEGIN:VEVENT
DTSTART;TZID=Europe/Amsterdam:20241219T100000
DTEND;TZID=Europe/Amsterdam:20241219T150000
DTSTAMP:20260425T181955
CREATED:20241203T173142Z
LAST-MODIFIED:20241203T173142Z
UID:7877-1734602400-1734620400@carlavanwensen.nl
SUMMARY:
DESCRIPTION:
URL:https://carlavanwensen.nl/event/7877/
CATEGORIES:Spreker
END:VEVENT
END:VCALENDAR