BEGIN:VCALENDAR
VERSION:2.0
PRODID:-//Carla van Wensen - ECPv6.15.20//NONSGML v1.0//EN
CALSCALE:GREGORIAN
METHOD:PUBLISH
X-WR-CALNAME:Carla van Wensen
X-ORIGINAL-URL:https://carlavanwensen.nl
X-WR-CALDESC:Evenementen voor Carla van Wensen
REFRESH-INTERVAL;VALUE=DURATION:PT1H
X-Robots-Tag:noindex
X-PUBLISHED-TTL:PT1H
BEGIN:VTIMEZONE
TZID:Europe/Amsterdam
BEGIN:DAYLIGHT
TZOFFSETFROM:+0100
TZOFFSETTO:+0200
TZNAME:CEST
DTSTART:20240331T010000
END:DAYLIGHT
BEGIN:STANDARD
TZOFFSETFROM:+0200
TZOFFSETTO:+0100
TZNAME:CET
DTSTART:20241027T010000
END:STANDARD
BEGIN:DAYLIGHT
TZOFFSETFROM:+0100
TZOFFSETTO:+0200
TZNAME:CEST
DTSTART:20250330T010000
END:DAYLIGHT
BEGIN:STANDARD
TZOFFSETFROM:+0200
TZOFFSETTO:+0100
TZNAME:CET
DTSTART:20251026T010000
END:STANDARD
BEGIN:DAYLIGHT
TZOFFSETFROM:+0100
TZOFFSETTO:+0200
TZNAME:CEST
DTSTART:20260329T010000
END:DAYLIGHT
BEGIN:STANDARD
TZOFFSETFROM:+0200
TZOFFSETTO:+0100
TZNAME:CET
DTSTART:20261025T010000
END:STANDARD
END:VTIMEZONE
BEGIN:VEVENT
DTSTART;TZID=Europe/Amsterdam:20250115T100000
DTEND;TZID=Europe/Amsterdam:20250115T160000
DTSTAMP:20260425T170451
CREATED:20241007T153744Z
LAST-MODIFIED:20241221T104413Z
UID:7454-1736935200-1736956800@carlavanwensen.nl
SUMMARY:KIE Verdiepingsdag Moro-reflex\, Terugtrek-reflex en angst | 2025 | Bakkum (VOL)
DESCRIPTION:Weet je dat elke reflex een thema in zich heeft? En dat wanneer een reflex niet geïntegreerd wil worden\, dit thema om aandacht roept? Met behulp van KIE en NEI kun je dit heel mooi uitdiepen. Deze dag gaan we aan de slag met angst. Want wat is angst? Hoe werkt dat vanbinnen? We diepen de twee meest bekende angstreflexen uit- de terugtrekreflex en de Moro-reflex- en gaan ermee aan de slag middels KIE. Wat maakt dat deze reflexen niet tot rust komen? Hoe zie je dat? Merk je dat? En hoe kun je hiermee aan de slag? \nLet op!\nHeb je eerder de dag KIE en niet geïntegreerde reflexen gevolgd zal deze dag deels herhaling zijn. \nVoor wie?\nVoor iedereen\, maar kennis van reflexen en reflexintegratie is een pré. \nKosten\n€ 185\,00 inclusief biologische lunch en lesmateriaal\, vrijgesteld van BTW volgens het CRKBO. \n[aux_button label=”Schrijf je in” size=”medium” icon_align=”left” color_name=”dark-gray” border=”” style=”” link=”https://carlavanwensen.nl/verdiepingsdagen-kind-in-evenwicht/”]
URL:https://carlavanwensen.nl/event/kie-verdiepingsdag-moro-reflex-terugtrek-reflex-en-angst-2025-bakkum-vol/
LOCATION:Jacobshoeve Bakkum\, Bleumerweg 49\, Bakkum (Castricum)\, Noord-Holland\, 1901 MJ\, Nederland
ATTACH;FMTTYPE=image/jpeg:https://carlavanwensen.nl/wp-content/uploads/2024/07/Logo_KIE-1.jpg
END:VEVENT
END:VCALENDAR