BEGIN:VCALENDAR
VERSION:2.0
PRODID:-//Carla van Wensen - ECPv6.15.20//NONSGML v1.0//EN
CALSCALE:GREGORIAN
METHOD:PUBLISH
X-WR-CALNAME:Carla van Wensen
X-ORIGINAL-URL:https://carlavanwensen.nl
X-WR-CALDESC:Evenementen voor Carla van Wensen
REFRESH-INTERVAL;VALUE=DURATION:PT1H
X-Robots-Tag:noindex
X-PUBLISHED-TTL:PT1H
BEGIN:VTIMEZONE
TZID:Europe/Amsterdam
BEGIN:DAYLIGHT
TZOFFSETFROM:+0100
TZOFFSETTO:+0200
TZNAME:CEST
DTSTART:20240331T010000
END:DAYLIGHT
BEGIN:STANDARD
TZOFFSETFROM:+0200
TZOFFSETTO:+0100
TZNAME:CET
DTSTART:20241027T010000
END:STANDARD
BEGIN:DAYLIGHT
TZOFFSETFROM:+0100
TZOFFSETTO:+0200
TZNAME:CEST
DTSTART:20250330T010000
END:DAYLIGHT
BEGIN:STANDARD
TZOFFSETFROM:+0200
TZOFFSETTO:+0100
TZNAME:CET
DTSTART:20251026T010000
END:STANDARD
BEGIN:DAYLIGHT
TZOFFSETFROM:+0100
TZOFFSETTO:+0200
TZNAME:CEST
DTSTART:20260329T010000
END:DAYLIGHT
BEGIN:STANDARD
TZOFFSETFROM:+0200
TZOFFSETTO:+0100
TZNAME:CET
DTSTART:20261025T010000
END:STANDARD
END:VTIMEZONE
BEGIN:VEVENT
DTSTART;TZID=Europe/Amsterdam:20250411T100000
DTEND;TZID=Europe/Amsterdam:20250411T163000
DTSTAMP:20260425T130528
CREATED:20240730T160359Z
LAST-MODIFIED:20241007T134639Z
UID:5706-1744365600-1744389000@carlavanwensen.nl
SUMMARY:KIE 16 Level 2 | 2025 | Bakkum
DESCRIPTION:In deze tweedaagse module worden de lesstof en de technieken van KIE level 1 verdiept.\nJe leert waar de acupressuurpunten van de meridianen zich op het lichaam bevinden\, met welke emoties ze verbonden zijn en hoe je deze kunt beïnvloeden wanneer je uit balans bent gegaan. Vervolgens leer je hoe je deze kunt integreren\, gebruikmakend van verschillende lichaamsgerichte therapeutische interventies uit zowel de reguliere als complementaire geneeswijzen. \nVoor wie?\nTherapeuten\, zorgverleners en coaches die lichaamsgericht werkzaam zijn met het kind en level 1 hebben afgerond. \nWat levert het je op?\nEen mooie techniek die thuis voortgezet kan worden om de therapie-winst te verankeren. Je ontvangt een nieuw protocol\, een flowchart en een huiswerkschema. Doordat je de interventies van Kind In Evenwicht zelf oefent en ervaart\, krijg je veel persoonlijke inzichten mee. Je leert dus niet alleen een bijzonder effectieve manier van werken met het kind\, persoonlijke bewustwording komt zeker ook aan bod. Nadat je level 1 en level 2 succesvol hebt afgerond\, ben je geregistreerd als KIE-Coach en ontvang je een logo dat je op je website mag plaatsen. \nWat wordt er behandeld?\nDeze dagen leer je werken met emoties\, meridianen en drukpunten. \nKosten\nLevel 2\n€ 375\,- inclusief vegetarische lunch\, een reader en nieuwe flowchart\, certificaat KIE- coach en accreditatie KTNO met 1 EC. Toegang tot de VVNT.nl Kind in evenwicht is CRKBO geregistreerd en vrijgesteld van BTW. Accreditatie Level 2 KTNO 1 EC (K10728) \nVoorwaarden\nEr wordt deze dagen best wat van je gevraagd op persoonlijk vlak. Mocht je hulp hebben van een psycholoog of psychiater kun je daarom ook (nog) niet deelnemen.  Wanneer je je weer in balans voelt\, ben je van harte welkom. \nStudiebelasting\nLevel 1: 5 contactdagen Level 2: 2 contactdagen Daarnaast moet de cursist nog tijd besteden aan het trainen van de spiertest\, het lezen van de bijgeleverde manual en het beschrijven van één casus. \nCertificaat\nNa het behalen van level 1 kun je doorstromen naar level 2. Zodra je zowel level 1 als level 2 hebt afgerond met 100% aanwezigheid en een casus hebt ingeleverd\, word je geregistreerd als KIE-Coach. Je ontvangt dan het KIE-logo\, dat je op je website mag plaatsen. De cursus is geaccrediteerd door het KTNO en geregistreerd bij het CRKBO. Na afloop krijg je toegang tot de Vereniging voor Nei-therapeuten (VVNT)\, waar je je kunt aanmelden als lid. \nAccreditaties\nAccreditatie Level 1 KTNO 2 EC (K10727) Data KIE 16 Level 2 | Bakkum \n\n11 april 2025\n23 mei 2025\n\n[aux_button label=”Schrijf je in” size=”medium” icon_align=”left” color_name=”dark-gray” border=”” style=”” link=”https://carlavanwensen.nl/kie-level-1-en-level-2/”]
URL:https://carlavanwensen.nl/event/kie-16-level-2-2025-bakkum/
LOCATION:Jacobshoeve Bakkum\, Bleumerweg 49\, Bakkum (Castricum)\, Noord-Holland\, 1901 MJ\, Nederland
CATEGORIES:Kind In Evenwicht
ATTACH;FMTTYPE=image/jpeg:https://carlavanwensen.nl/wp-content/uploads/2024/07/Logo_KIE-e1764098464983.jpg
END:VEVENT
END:VCALENDAR