BEGIN:VCALENDAR
VERSION:2.0
PRODID:-//Carla van Wensen - ECPv6.15.20//NONSGML v1.0//EN
CALSCALE:GREGORIAN
METHOD:PUBLISH
X-ORIGINAL-URL:https://carlavanwensen.nl
X-WR-CALDESC:Evenementen voor Carla van Wensen
REFRESH-INTERVAL;VALUE=DURATION:PT1H
X-Robots-Tag:noindex
X-PUBLISHED-TTL:PT1H
BEGIN:VTIMEZONE
TZID:Europe/Amsterdam
BEGIN:DAYLIGHT
TZOFFSETFROM:+0100
TZOFFSETTO:+0200
TZNAME:CEST
DTSTART:20240331T010000
END:DAYLIGHT
BEGIN:STANDARD
TZOFFSETFROM:+0200
TZOFFSETTO:+0100
TZNAME:CET
DTSTART:20241027T010000
END:STANDARD
BEGIN:DAYLIGHT
TZOFFSETFROM:+0100
TZOFFSETTO:+0200
TZNAME:CEST
DTSTART:20250330T010000
END:DAYLIGHT
BEGIN:STANDARD
TZOFFSETFROM:+0200
TZOFFSETTO:+0100
TZNAME:CET
DTSTART:20251026T010000
END:STANDARD
BEGIN:DAYLIGHT
TZOFFSETFROM:+0100
TZOFFSETTO:+0200
TZNAME:CEST
DTSTART:20260329T010000
END:DAYLIGHT
BEGIN:STANDARD
TZOFFSETFROM:+0200
TZOFFSETTO:+0100
TZNAME:CET
DTSTART:20261025T010000
END:STANDARD
END:VTIMEZONE
BEGIN:VEVENT
DTSTART;TZID=Europe/Amsterdam:20250425T090000
DTEND;TZID=Europe/Amsterdam:20250425T170000
DTSTAMP:20260425T130549
CREATED:20241007T163722Z
LAST-MODIFIED:20241007T163955Z
UID:7511-1745571600-1745600400@carlavanwensen.nl
SUMMARY:Nascholing ‘Het kind: autonome zenuwstelsel & reflexintegratie‘ | Hilversum
DESCRIPTION:Blokkerende emoties\, gevoelens en gedachten.\nSta je open voor een andere kijk op het centrale zenuwstelsel en de integratie van primaire reflexen bij onbegrepen gedrag van kinderen? Volg dan deze praktische nascholing. \nVoor wie?\nDeze nascholing is geschikt voor complementaire therapeuten en coaches die werkzaam zijn met kinderen met onbegrepen gedrag of onbegrepen fysieke klachten. Het is voor hen die meer willen leren over primaire reflexen en de gevolgen hiervan voor de ontwikkeling van het kind op het gebied van denken\, voelen en doen. \nWat levert het je op?\nDe nascholing ‘Het kind: autonome zenuwstelsel & reflexintegratie’ geeft inzicht in het samenspel tussen het kinderbrein\, het kinderlijf\, primaire reflexen en het autonome zenuwstelsel. Je leert hoe de ontwikkeling van een kind plaatsvindt aan de hand van primaire reflexen en wat er gebeurt als het anders gaat dan gewenst. Een aantal reflexen ervaar jezelf. \nWat wordt er behandeld?\n\nDe onlosmakelijke ontwikkeling tussen het brein en het bewegen.\nPrimaire reflexen\nHet autonoom zenuwstelsel\nStress en overlevingsstrategieën: hoe uit zich dat in gedrag en in het bewegen.\nEmoties\nHechting\nVeiligheid\nBelang van aanraken\, bewegen en bewogen worden binnen de therapie.\n\nKosten\n€195 (te betalen op locatie) inclusief presentatie (digitaal)\, certificaat (PDF)\, koffie/thee \nData\n\n25 april 2025\n\n-> Lees meer op de site van Con Amore.
URL:https://carlavanwensen.nl/event/nascholing-het-kind-autonome-zenuwstelsel-reflexintegratie-hilversum-2/
LOCATION:Hilversum\, Nederland
ATTACH;FMTTYPE=image/jpeg:https://carlavanwensen.nl/wp-content/uploads/2024/07/Logo_ConAmore-e1764098057857.jpg
END:VEVENT
END:VCALENDAR