BEGIN:VCALENDAR
VERSION:2.0
PRODID:-//Carla van Wensen - ECPv6.15.20//NONSGML v1.0//EN
CALSCALE:GREGORIAN
METHOD:PUBLISH
X-ORIGINAL-URL:https://carlavanwensen.nl
X-WR-CALDESC:Evenementen voor Carla van Wensen
REFRESH-INTERVAL;VALUE=DURATION:PT1H
X-Robots-Tag:noindex
X-PUBLISHED-TTL:PT1H
BEGIN:VTIMEZONE
TZID:Europe/Amsterdam
BEGIN:DAYLIGHT
TZOFFSETFROM:+0100
TZOFFSETTO:+0200
TZNAME:CEST
DTSTART:20250330T010000
END:DAYLIGHT
BEGIN:STANDARD
TZOFFSETFROM:+0200
TZOFFSETTO:+0100
TZNAME:CET
DTSTART:20251026T010000
END:STANDARD
BEGIN:DAYLIGHT
TZOFFSETFROM:+0100
TZOFFSETTO:+0200
TZNAME:CEST
DTSTART:20260329T010000
END:DAYLIGHT
BEGIN:STANDARD
TZOFFSETFROM:+0200
TZOFFSETTO:+0100
TZNAME:CET
DTSTART:20261025T010000
END:STANDARD
BEGIN:DAYLIGHT
TZOFFSETFROM:+0100
TZOFFSETTO:+0200
TZNAME:CEST
DTSTART:20270328T010000
END:DAYLIGHT
BEGIN:STANDARD
TZOFFSETFROM:+0200
TZOFFSETTO:+0100
TZNAME:CET
DTSTART:20271031T010000
END:STANDARD
END:VTIMEZONE
BEGIN:VEVENT
DTSTART;TZID=Europe/Amsterdam:20260304T100000
DTEND;TZID=Europe/Amsterdam:20260304T160000
DTSTAMP:20260424T212432
CREATED:20260112T162314Z
LAST-MODIFIED:20260112T162658Z
UID:9004-1772618400-1772640000@carlavanwensen.nl
SUMMARY:Verdiepingsdag pijn voor KIE coaches
DESCRIPTION:Veel fysieke pijn kent geen daadwerkelijke fysieke oorzaak. Mensen met chronische pijn krijgen vaak te horen dat het vanzelf weer overgaat\, of dat ze er maar mee moeten leren leven. Maar is dat ook zo? \nDeze dag leg ik jullie de ontstaanswijze van pijn uit (aan de hand van de polyvagaaltheorie in Jip en Janneke taal en de inzichten vanuit de PNI (Psycho-Neuro-Immunologie). Daarna gaan we aan de slag met het pijnprotocol. \nHands on-lichaamsgericht- aan de slag. Behandelbanken neem ik mee. \nOok is er alle ruimte voor het stellen van vragen\, oefenen en opfrissen van het werken met KIE en het meedenken over een casus.
URL:https://carlavanwensen.nl/event/verdiepingsdag-pijn-voor-kie-coaches/
LOCATION:Jacobshoeve Bakkum\, Bleumerweg 49\, Bakkum (Castricum)\, Noord-Holland\, 1901 MJ\, Nederland
CATEGORIES:Kind In Evenwicht
ATTACH;FMTTYPE=image/jpeg:https://carlavanwensen.nl/wp-content/uploads/2024/07/Logo_KIE-e1764098464983.jpg
END:VEVENT
END:VCALENDAR