BEGIN:VCALENDAR
VERSION:2.0
PRODID:-//Carla van Wensen - ECPv6.15.20//NONSGML v1.0//EN
CALSCALE:GREGORIAN
METHOD:PUBLISH
X-WR-CALNAME:Carla van Wensen
X-ORIGINAL-URL:https://carlavanwensen.nl
X-WR-CALDESC:Evenementen voor Carla van Wensen
REFRESH-INTERVAL;VALUE=DURATION:PT1H
X-Robots-Tag:noindex
X-PUBLISHED-TTL:PT1H
BEGIN:VTIMEZONE
TZID:Europe/Amsterdam
BEGIN:DAYLIGHT
TZOFFSETFROM:+0100
TZOFFSETTO:+0200
TZNAME:CEST
DTSTART:20250330T010000
END:DAYLIGHT
BEGIN:STANDARD
TZOFFSETFROM:+0200
TZOFFSETTO:+0100
TZNAME:CET
DTSTART:20251026T010000
END:STANDARD
BEGIN:DAYLIGHT
TZOFFSETFROM:+0100
TZOFFSETTO:+0200
TZNAME:CEST
DTSTART:20260329T010000
END:DAYLIGHT
BEGIN:STANDARD
TZOFFSETFROM:+0200
TZOFFSETTO:+0100
TZNAME:CET
DTSTART:20261025T010000
END:STANDARD
BEGIN:DAYLIGHT
TZOFFSETFROM:+0100
TZOFFSETTO:+0200
TZNAME:CEST
DTSTART:20270328T010000
END:DAYLIGHT
BEGIN:STANDARD
TZOFFSETFROM:+0200
TZOFFSETTO:+0100
TZNAME:CET
DTSTART:20271031T010000
END:STANDARD
END:VTIMEZONE
BEGIN:VEVENT
DTSTART;TZID=Europe/Amsterdam:20260930T080000
DTEND;TZID=Europe/Amsterdam:20260930T170000
DTSTAMP:20260425T015338
CREATED:20251004T123116Z
LAST-MODIFIED:20260113T122241Z
UID:8473-1790755200-1790787600@carlavanwensen.nl
SUMMARY:KIE 21 level 1 | 2026 | Bakkum
DESCRIPTION:Je leert (en ervaart zelf) hoe geblokkeerde gevoelens en emoties op een speelse manier inzichtelijk gemaakt kunnenworden en verwerkt. Je leert hoe vroegkinderlijke (geboorte) trauma’s of verwarrende/heftige gebeurtenissen impact hebben in het nu en maken dat je blokkeert in het denken-voelen-doen. Speels en luchtig kom je tot de kern en doorzie je de belemmerende patronen. Het werkt razendsnel en bijzondere bijkomstigheid is dat herbeleven\, en vertellen over dat wat er was\, niet hoeft. De spieren vertellen het verhaal. \nJe leert werken met NEI (Neuro-Emotionele- Integratie)- de ‘kapstok’ van Kind in evenwicht – en dit te integreren met andere technieken. Omdat je de lesstof zelf oefent en ervaart\, krijg je veel persoonlijke inzichten mee. \nAccreditaties\nAccreditatie Level 1 KTNO 2 EC (K10727) Data KIE 21 level 1 | Bakkum \n\n16 september 2026\n30 september 2026\n28 oktober 2026\n25 november 2026\n16 december 2026\n\nMaximum aantal deelnemers per groep: 9 \n 
URL:https://carlavanwensen.nl/event/kie-21-level-1-2026-bakkum-4/
LOCATION:Jacobshoeve Bakkum\, Bleumerweg 49\, Bakkum (Castricum)\, Noord-Holland\, 1901 MJ\, Nederland
ATTACH;FMTTYPE=image/jpeg:https://carlavanwensen.nl/wp-content/uploads/2024/07/Logo_KIE-e1764098464983.jpg
END:VEVENT
END:VCALENDAR