BEGIN:VCALENDAR
VERSION:2.0
PRODID:-//Carla van Wensen - ECPv6.15.20//NONSGML v1.0//EN
CALSCALE:GREGORIAN
METHOD:PUBLISH
X-WR-CALNAME:Carla van Wensen
X-ORIGINAL-URL:https://carlavanwensen.nl
X-WR-CALDESC:Evenementen voor Carla van Wensen
REFRESH-INTERVAL;VALUE=DURATION:PT1H
X-Robots-Tag:noindex
X-PUBLISHED-TTL:PT1H
BEGIN:VTIMEZONE
TZID:Europe/Amsterdam
BEGIN:DAYLIGHT
TZOFFSETFROM:+0100
TZOFFSETTO:+0200
TZNAME:CEST
DTSTART:20230326T010000
END:DAYLIGHT
BEGIN:STANDARD
TZOFFSETFROM:+0200
TZOFFSETTO:+0100
TZNAME:CET
DTSTART:20231029T010000
END:STANDARD
BEGIN:DAYLIGHT
TZOFFSETFROM:+0100
TZOFFSETTO:+0200
TZNAME:CEST
DTSTART:20240331T010000
END:DAYLIGHT
BEGIN:STANDARD
TZOFFSETFROM:+0200
TZOFFSETTO:+0100
TZNAME:CET
DTSTART:20241027T010000
END:STANDARD
BEGIN:DAYLIGHT
TZOFFSETFROM:+0100
TZOFFSETTO:+0200
TZNAME:CEST
DTSTART:20250330T010000
END:DAYLIGHT
BEGIN:STANDARD
TZOFFSETFROM:+0200
TZOFFSETTO:+0100
TZNAME:CET
DTSTART:20251026T010000
END:STANDARD
END:VTIMEZONE
BEGIN:VEVENT
DTSTART;TZID=Europe/Amsterdam:20240524T120000
DTEND;TZID=Europe/Amsterdam:20240524T183000
DTSTAMP:20260425T123708
CREATED:20240730T161211Z
LAST-MODIFIED:20240730T215006Z
UID:5718-1716552000-1716575400@carlavanwensen.nl
SUMMARY:KIE 15 Level 1 | 2024 | Bakkum (VOL)
DESCRIPTION:Blokkerende emoties\, gevoelens en gedachten.\nHoe kun je op een speelse manier geblokkeerde gevoelens en emoties inzichtelijk maken en laten verwerken? Je leert (en ervaart het zelf) tijdens de scholing Kind In Evenwicht (KIE). Je leert hoe vroegkinderlijke (geboorte) trauma’s of verwarrende/heftige gebeurtenissen impact hebben in het nu en maken dat je blokkeert in het denken-voelen-doen. Speels en luchtig kom je tot de kern en doorzie je de belemmerende patronen. Het werkt razendsnel en bijzondere bijkomstigheid is dat herbeleven en vertellen over dat wat er was\, niet hoeft. De spieren vertellen het verhaal. De eerste dag leer je te werken met NEI (Neuro-Emotionele- Integratie). De ‘kapstok’ van Kind in evenwicht. De volgende dagen leer je hoe je deze kunt integreren met andere technieken. \nVoor wie?\nBen je therapeut of coach en werk je lichaamsgericht met het kind\, de jongere of de volwassene? Weet of voel je dat de ander emotioneel vastloopt maar kun je niet precies ontdekken wat er speelt? Ben je nieuwsgierig naar de invloed van de pré- en perinatale periode op je handelen in het nu\, en wil je weten hoe deze patronen te doorbreken? Dan is deze scholing\, waarbij je gebruik maakt van technieken uit de toegepaste kinesiologie\, reflexintegratie en NEI (Neuro-emotionele Integratie) misschien iets voor jou. \nWat levert het je op?\nNa deze scholing ben je in staat om samen met diegene waarmee je werkt speels en luchtig te ontdekken waarom hij vastloopt met zijn emoties en gevoelens\, wat de oorzaak is en wat er nodig is om het op te lossen. Vervolgens kun je een bijpassende therapie aanbieden en uitvoeren. Omdat je de lesstof zelf oefent en ervaart\, krijg je veel persoonlijke inzichten mee. \nWat wordt er behandeld?\n\nDe o-ring test (uit de toegepaste kinesiologie)\nNeuro-emotionele Integratie (NEI)\nBreinontwikkeling\nPersoonlijkheidsontwikkeling\nCoaching\nIntegrale geneeskunde: meridianen\, chakra’s\, immuunsysteem en hoe deze te koppelen aan het brein\, het bewegen\, de emoties en het gedrag\, de invloed van prenatale periode\, conceptie\, zwangerschap\, geboorte\, ziekte\, stress en trauma\nInterventie technieken vanuit de reguliere- en andere geneeswijzen\n\nKosten\nLevel 1\n€ 965\,- inclusief vegetarische lunch\, het boek Opgroeien in evenwicht (uitgeverij SWP)\, een manual en flowcharts\, certificaat van deelname\, accreditatie KTNO met 2 EC. Kind in evenwicht is CRKBO geregistreerd en vrijgesteld van BTW. \nVoorwaarden\nEr wordt deze dagen best wat van je gevraagd op persoonlijk vlak. Mocht je hulp hebben van een psycholoog of psychiater kun je daarom ook (nog) niet deelnemen.  Wanneer je je weer in balans voelt\, ben je van harte welkom. \nStudiebelasting\nLevel 1: 5 contactdagen Level 2: 2 contactdagen Daarnaast moet de cursist nog tijd besteden aan het trainen van de spiertest\, het lezen van de bijgeleverde manual en het beschrijven van één casus. \nCertificaat\nNa het behalen van level 1 kun je doorstromen naar level 2. Zodra je zowel level 1 als level 2 hebt afgerond met 100% aanwezigheid en een casus hebt ingeleverd\, word je geregistreerd als KIE-Coach. Je ontvangt dan het KIE-logo\, dat je op je website mag plaatsen. De cursus is geaccrediteerd door het KTNO en geregistreerd bij het CRKBO. Na afloop krijg je toegang tot de Vereniging voor Nei-therapeuten (VVNT)\, waar je je kunt aanmelden als lid. \nAccreditaties\nAccreditatie Level 1 KTNO 2 EC (K10727) Data KIE 15 Level 1 | Bakkum \n\n24 mei\n7 juni\n21 juni\n13 september\n4 oktober\n\n[aux_button label=”Schrijf je in” size=”medium” icon_align=”left” color_name=”dark-gray” border=”” style=”” link=”https://carlavanwensen.nl/contactformulier-teamdag-workshops-bijscholingen/”]
URL:https://carlavanwensen.nl/event/kie-15-level-1-2024-bakkum-vol/
LOCATION:Noord-Holland
CATEGORIES:Kind In Evenwicht
END:VEVENT
BEGIN:VEVENT
DTSTART;TZID=Europe/Amsterdam:20240313T100000
DTEND;TZID=Europe/Amsterdam:20240313T163000
DTSTAMP:20260425T123708
CREATED:20240730T161032Z
LAST-MODIFIED:20241007T134754Z
UID:5716-1710324000-1710347400@carlavanwensen.nl
SUMMARY:KIE 14 Level 1 | 2024 | Bakkum (VOL)
DESCRIPTION:Blokkerende emoties\, gevoelens en gedachten.\nHoe kun je op een speelse manier geblokkeerde gevoelens en emoties inzichtelijk maken en laten verwerken? Je leert (en ervaart het zelf) tijdens de scholing Kind In Evenwicht (KIE). Je leert hoe vroegkinderlijke (geboorte) trauma’s of verwarrende/heftige gebeurtenissen impact hebben in het nu en maken dat je blokkeert in het denken-voelen-doen. Speels en luchtig kom je tot de kern en doorzie je de belemmerende patronen. Het werkt razendsnel en bijzondere bijkomstigheid is dat herbeleven en vertellen over dat wat er was\, niet hoeft. De spieren vertellen het verhaal. De eerste dag leer je te werken met NEI (Neuro-Emotionele- Integratie). De ‘kapstok’ van Kind in evenwicht. De volgende dagen leer je hoe je deze kunt integreren met andere technieken. \nVoor wie?\nBen je therapeut of coach en werk je lichaamsgericht met het kind\, de jongere of de volwassene? Weet of voel je dat de ander emotioneel vastloopt maar kun je niet precies ontdekken wat er speelt? Ben je nieuwsgierig naar de invloed van de pré- en perinatale periode op je handelen in het nu\, en wil je weten hoe deze patronen te doorbreken? Dan is deze scholing\, waarbij je gebruik maakt van technieken uit de toegepaste kinesiologie\, reflexintegratie en NEI (Neuro-emotionele Integratie) misschien iets voor jou. \nWat levert het je op?\nNa deze scholing ben je in staat om samen met diegene waarmee je werkt speels en luchtig te ontdekken waarom hij vastloopt met zijn emoties en gevoelens\, wat de oorzaak is en wat er nodig is om het op te lossen. Vervolgens kun je een bijpassende therapie aanbieden en uitvoeren. Omdat je de lesstof zelf oefent en ervaart\, krijg je veel persoonlijke inzichten mee. \nWat wordt er behandeld?\n\nDe o-ring test (uit de toegepaste kinesiologie)\nNeuro-emotionele Integratie (NEI)\nBreinontwikkeling\nPersoonlijkheidsontwikkeling\nCoaching\nIntegrale geneeskunde: meridianen\, chakra’s\, immuunsysteem en hoe deze te koppelen aan het brein\, het bewegen\, de emoties en het gedrag\, de invloed van prenatale periode\, conceptie\, zwangerschap\, geboorte\, ziekte\, stress en trauma\nInterventie technieken vanuit de reguliere- en andere geneeswijzen\n\nKosten\nLevel 1\n€ 965\,- inclusief vegetarische lunch\, het boek Opgroeien in evenwicht (uitgeverij SWP)\, een manual en flowcharts\, certificaat van deelname\, accreditatie KTNO met 2 EC. Kind in evenwicht is CRKBO geregistreerd en vrijgesteld van BTW. \nVoorwaarden\nEr wordt deze dagen best wat van je gevraagd op persoonlijk vlak. Mocht je hulp hebben van een psycholoog of psychiater kun je daarom ook (nog) niet deelnemen.  Wanneer je je weer in balans voelt\, ben je van harte welkom. \nStudiebelasting\nLevel 1: 5 contactdagen Level 2: 2 contactdagen Daarnaast moet de cursist nog tijd besteden aan het trainen van de spiertest\, het lezen van de bijgeleverde manual en het beschrijven van één casus. \nCertificaat\nNa het behalen van level 1 kun je doorstromen naar level 2. Zodra je zowel level 1 als level 2 hebt afgerond met 100% aanwezigheid en een casus hebt ingeleverd\, word je geregistreerd als KIE-Coach. Je ontvangt dan het KIE-logo\, dat je op je website mag plaatsen. De cursus is geaccrediteerd door het KTNO en geregistreerd bij het CRKBO. Na afloop krijg je toegang tot de Vereniging voor Nei-therapeuten (VVNT)\, waar je je kunt aanmelden als lid. \nAccreditaties\nAccreditatie Level 1 KTNO 2 EC (K10727) Data KIE 14 Level 1 | Bakkum \n\n13 maart\n3 april\n17 april\n22 mei\n12 juni\n\n[aux_button label=”Schrijf je in” size=”medium” icon_align=”left” color_name=”dark-gray” border=”” style=”” link=”https://carlavanwensen.nl/contactformulier-teamdag-workshops-bijscholingen/”]
URL:https://carlavanwensen.nl/event/kie-14-level-1-2024-bakkum-vol/
LOCATION:Noord-Holland
CATEGORIES:Kind In Evenwicht
END:VEVENT
END:VCALENDAR