BEGIN:VCALENDAR
VERSION:2.0
PRODID:-//Carla van Wensen - ECPv6.15.20//NONSGML v1.0//EN
CALSCALE:GREGORIAN
METHOD:PUBLISH
X-ORIGINAL-URL:https://carlavanwensen.nl
X-WR-CALDESC:Evenementen voor Carla van Wensen
REFRESH-INTERVAL;VALUE=DURATION:PT1H
X-Robots-Tag:noindex
X-PUBLISHED-TTL:PT1H
BEGIN:VTIMEZONE
TZID:Europe/Amsterdam
BEGIN:DAYLIGHT
TZOFFSETFROM:+0100
TZOFFSETTO:+0200
TZNAME:CEST
DTSTART:20240331T010000
END:DAYLIGHT
BEGIN:STANDARD
TZOFFSETFROM:+0200
TZOFFSETTO:+0100
TZNAME:CET
DTSTART:20241027T010000
END:STANDARD
BEGIN:DAYLIGHT
TZOFFSETFROM:+0100
TZOFFSETTO:+0200
TZNAME:CEST
DTSTART:20250330T010000
END:DAYLIGHT
BEGIN:STANDARD
TZOFFSETFROM:+0200
TZOFFSETTO:+0100
TZNAME:CET
DTSTART:20251026T010000
END:STANDARD
BEGIN:DAYLIGHT
TZOFFSETFROM:+0100
TZOFFSETTO:+0200
TZNAME:CEST
DTSTART:20260329T010000
END:DAYLIGHT
BEGIN:STANDARD
TZOFFSETFROM:+0200
TZOFFSETTO:+0100
TZNAME:CET
DTSTART:20261025T010000
END:STANDARD
END:VTIMEZONE
BEGIN:VEVENT
DTSTART;TZID=Europe/Amsterdam:20250101T093000
DTEND;TZID=Europe/Amsterdam:20250101T160000
DTSTAMP:20260425T154430
CREATED:20241007T133722Z
LAST-MODIFIED:20250309T084413Z
UID:7420-1735723800-1735747200@carlavanwensen.nl
SUMMARY:
DESCRIPTION:
URL:https://carlavanwensen.nl/event/kie-18-level-1-2025-bakkum/
LOCATION:Jacobshoeve Bakkum\, Bleumerweg 49\, Bakkum (Castricum)\, Noord-Holland\, 1901 MJ\, Nederland
CATEGORIES:Kind In Evenwicht
END:VEVENT
BEGIN:VEVENT
DTSTART;TZID=Europe/Amsterdam:20250110T100000
DTEND;TZID=Europe/Amsterdam:20250110T163000
DTSTAMP:20260425T154430
CREATED:20240729T085829Z
LAST-MODIFIED:20241007T161607Z
UID:5601-1736503200-1736526600@carlavanwensen.nl
SUMMARY:Brein & Bewegen | CKB 27 | 2025 | Hilversum
DESCRIPTION:Driedaagse bijscholing over stress\, trauma\, beschermende reflexen en niet begrepen gedrag (eerder Kinderbrein en bewegen) op basis van het werkboek de ‘Ik-fabriek‘ en ‘Prachtig lastig‘. Wist je dat niet begrepen – of niet gewenst gedrag\, (motorische) ontwikkelingsachterstand\, pijnklachten\, leerproblemen en angst op de loer liggen wanneer het kinderlijf en -brein elkaar niet begrijpen? En wist je dat je aan de manier van bewegen van het kind kunt zien wat er speelt\, wat er ‘mis’ gaat en wat het kind nodig heeft om het makkelijker te maken? In deze driedaagse actieve\, lichaamsgerichte bijscholing ga je zelf het samenspel ervaren tussen het brein\, het lijf\, de invloed van bewegen\, reflexen\, aanraken\, het autonoom zenuwstelsel\, emoties\, hechting en veiligheid. Je leert over de ontwikkeling van het brein\, de ontwikkeling van het bewegen en hoe deze aan elkaar gekoppeld zijn. Vervolgens leer je hoe je niet gewenst gedrag\, niet begrepen fysieke klachten of (leer) ontwikkelingsachterstand kunt beïnvloeden door het kind nieuwe of andere bewegingen/aanrakingen te laten ervaren. Deze manier van werken kan ook (als het gewoon goed gaat met het kind) gebruikt worden om het kind te ondersteunen in zijn ontwikkeling: fysiek\, sociaal-emotioneel en cognitief. \nVoor wie?\nCoaches\, therapeuten en zorgverleners die zich willen verdiepen in lichaamsgericht werken en niet begrepen gedrag\, of niet begrepen pijn. Een vooropleiding op hbo niveau of een hbo werk/denkniveau is vereist. \nWat levert het je op?\nNa deze dagen kun je aan de manier van bewegen van het kind zien waar het fysiek of sociaal-emotioneel vastloopt of een zetje nodig heeft\, waarom het vastloopt en hoe je dit op een positieve manier kunt ondersteunen. Aan de hand van een overzichtelijk schema en voorbeelden uit de praktijk ga je zelf aan de slag met oefeningen\, spelvormen\, massages en coachingtechnieken die je na de workshop direct kunt inzetten. Gebaseerd op de boeken De Ik-fabriek\, Prachtig lastig reflexpatronen en niet begrepen gedrag en Woelig gevoelig \nWat wordt er behandeld?\n\nBreinontwikkeling\nOntwikkeling van bewegingspatronen\nRelatie brein-bewegen-ontwikkelen\nReflexen\, niet geïntegreerde reflexen\nGedrag\, niet begrepen gedrag\, niet begrepen fysieke klachten (SOLK)\, angsten\, veiligheid\, hooggevoeligheid\, ADHD\, ADD\, Pdd-NOS\nHechting\, veiligheid\, (geboorte)trauma\nInterventietechnieken aan de hand van een schema\n\nKosten\n€ 665\,-\, BTW vrijgesteld in verband met CRKBO registratie\, inclusief lunch\, het boek Prachtig lastig\, het werkboek de Ik-fabriek en een werkschema. \nCertificaat\nNa het afronden van deze scholing (100% aanwezigheid) en het gemaakt hebben van een casus\, ontvang je het certificaat: Kinderbrein en bewegen\, Post HBO conform erkend. \nAccreditaties\n\nAccreditatie ADAP (kwaliteitsregister paramedici-vaktherapeuten)\nKTNO\nhet KNGF (individueel aanvragen\, beroepsgerelateerde/vrije deel)\nSKJ\nCAT/GRO register\n\nData CKB 27 Hilversum 2025\n\n10 januari 2025\n24 januari 2025\n7 februari 2025\n\n[aux_button label=”Schrijf je in” size=”medium” icon_align=”left” color_name=”dark-gray” border=”” style=”” link=”https://carlavanwensen.nl/kinderbrein-en-bewegen-de-taal-van-het-kinderlichaam-post-hbo/”]
URL:https://carlavanwensen.nl/event/brein-bewegen-ckb-27-2025-hilversum/
LOCATION:Hilversum\, Nederland
CATEGORIES:Brein & Bewegen
ATTACH;FMTTYPE=image/jpeg:https://carlavanwensen.nl/wp-content/uploads/2024/07/Logo_BreinenBewegen-e1764082001220.jpg
END:VEVENT
BEGIN:VEVENT
DTSTART;TZID=Europe/Amsterdam:20250115T100000
DTEND;TZID=Europe/Amsterdam:20250115T160000
DTSTAMP:20260425T154430
CREATED:20241007T153744Z
LAST-MODIFIED:20241221T104413Z
UID:7454-1736935200-1736956800@carlavanwensen.nl
SUMMARY:KIE Verdiepingsdag Moro-reflex\, Terugtrek-reflex en angst | 2025 | Bakkum (VOL)
DESCRIPTION:Weet je dat elke reflex een thema in zich heeft? En dat wanneer een reflex niet geïntegreerd wil worden\, dit thema om aandacht roept? Met behulp van KIE en NEI kun je dit heel mooi uitdiepen. Deze dag gaan we aan de slag met angst. Want wat is angst? Hoe werkt dat vanbinnen? We diepen de twee meest bekende angstreflexen uit- de terugtrekreflex en de Moro-reflex- en gaan ermee aan de slag middels KIE. Wat maakt dat deze reflexen niet tot rust komen? Hoe zie je dat? Merk je dat? En hoe kun je hiermee aan de slag? \nLet op!\nHeb je eerder de dag KIE en niet geïntegreerde reflexen gevolgd zal deze dag deels herhaling zijn. \nVoor wie?\nVoor iedereen\, maar kennis van reflexen en reflexintegratie is een pré. \nKosten\n€ 185\,00 inclusief biologische lunch en lesmateriaal\, vrijgesteld van BTW volgens het CRKBO. \n[aux_button label=”Schrijf je in” size=”medium” icon_align=”left” color_name=”dark-gray” border=”” style=”” link=”https://carlavanwensen.nl/verdiepingsdagen-kind-in-evenwicht/”]
URL:https://carlavanwensen.nl/event/kie-verdiepingsdag-moro-reflex-terugtrek-reflex-en-angst-2025-bakkum-vol/
LOCATION:Jacobshoeve Bakkum\, Bleumerweg 49\, Bakkum (Castricum)\, Noord-Holland\, 1901 MJ\, Nederland
ATTACH;FMTTYPE=image/jpeg:https://carlavanwensen.nl/wp-content/uploads/2024/07/Logo_KIE-1.jpg
END:VEVENT
BEGIN:VEVENT
DTSTART;TZID=Europe/Amsterdam:20250117T093000
DTEND;TZID=Europe/Amsterdam:20250117T160000
DTSTAMP:20260425T154430
CREATED:20241007T154332Z
LAST-MODIFIED:20241203T175406Z
UID:7459-1737106200-1737129600@carlavanwensen.nl
SUMMARY:KIE 16 level 1 (VOL)
DESCRIPTION:Blokkerende emoties\, gevoelens en gedachten.\nHoe kun je op een speelse manier geblokkeerde gevoelens en emoties inzichtelijk maken en laten verwerken? Je leert (en ervaart het zelf) tijdens de scholing Kind In Evenwicht (KIE). Je leert hoe vroegkinderlijke (geboorte) trauma’s of verwarrende/heftige gebeurtenissen impact hebben in het nu en maken dat je blokkeert in het denken-voelen-doen. Speels en luchtig kom je tot de kern en doorzie je de belemmerende patronen. Het werkt razendsnel en bijzondere bijkomstigheid is dat herbeleven en vertellen over dat wat er was\, niet hoeft. De spieren vertellen het verhaal. De eerste dag leer je te werken met NEI (Neuro-Emotionele- Integratie). De ‘kapstok’ van Kind in evenwicht. De volgende dagen leer je hoe je deze kunt integreren met andere technieken. \nVoor wie?\nBen je therapeut of coach en werk je lichaamsgericht met het kind\, de jongere of de volwassene? Weet of voel je dat de ander emotioneel vastloopt maar kun je niet precies ontdekken wat er speelt? Ben je nieuwsgierig naar de invloed van de pré- en perinatale periode op je handelen in het nu\, en wil je weten hoe deze patronen te doorbreken? Dan is deze scholing\, waarbij je gebruik maakt van technieken uit de toegepaste kinesiologie\, reflexintegratie en NEI (Neuro-emotionele Integratie) misschien iets voor jou. \nWat levert het je op?\nNa deze scholing ben je in staat om samen met diegene waarmee je werkt speels en luchtig te ontdekken waarom hij vastloopt met zijn emoties en gevoelens\, wat de oorzaak is en wat er nodig is om het op te lossen. Vervolgens kun je een bijpassende therapie aanbieden en uitvoeren. Omdat je de lesstof zelf oefent en ervaart\, krijg je veel persoonlijke inzichten mee. \nWat wordt er behandeld?\n\nDe o-ring test (uit de toegepaste kinesiologie)\nNeuro-emotionele Integratie (NEI)\nBreinontwikkeling\nPersoonlijkheidsontwikkeling\nCoaching\nIntegrale geneeskunde: meridianen\, chakra’s\, immuunsysteem en hoe deze te koppelen aan het brein\, het bewegen\, de emoties en het gedrag\, de invloed van prenatale periode\, conceptie\, zwangerschap\, geboorte\, ziekte\, stress en trauma\nInterventie technieken vanuit de reguliere- en andere geneeswijzen\n\nKosten\nLevel 1\n€ 965\,- inclusief vegetarische lunch\, het boek Opgroeien in evenwicht (uitgeverij SWP)\, een manual en flowcharts\, certificaat van deelname\, accreditatie KTNO met 2 EC. Kind in evenwicht is CRKBO geregistreerd en vrijgesteld van BTW. \nVoorwaarden\nEr wordt deze dagen best wat van je gevraagd op persoonlijk vlak. Mocht je hulp hebben van een psycholoog of psychiater kun je daarom ook (nog) niet deelnemen.  Wanneer je je weer in balans voelt\, ben je van harte welkom. \nStudiebelasting\nLevel 1: 5 contactdagen Level 2: 2 contactdagen Daarnaast moet de cursist nog tijd besteden aan het trainen van de spiertest\, het lezen van de bijgeleverde manual en het beschrijven van één casus. \nCertificaat\nNa het behalen van level 1 kun je doorstromen naar level 2. Zodra je zowel level 1 als level 2 hebt afgerond met 100% aanwezigheid en een casus hebt ingeleverd\, word je geregistreerd als KIE-Coach. Je ontvangt dan het KIE-logo\, dat je op je website mag plaatsen. De cursus is geaccrediteerd door het KTNO en geregistreerd bij het CRKBO. Na afloop krijg je toegang tot de Vereniging voor Nei-therapeuten (VVNT)\, waar je je kunt aanmelden als lid. \nAccreditaties\nAccreditatie Level 1 KTNO 2 EC (K10727) Data KIE 16 level 1 | Bakkum \n\n15 november 2024\n13 december 2024\n17 januari 2025\n14 februari 2025\n14 maart 2025\n\nMaximum aantal deelnemers per groep: 9 \n[aux_button label=”Schrijf je in” size=”medium” icon_align=”left” color_name=”dark-gray” border=”” style=”” link=”https://carlavanwensen.nl/kie-level-1-en-level-2/”]
URL:https://carlavanwensen.nl/event/kie-16-level-1-2/
LOCATION:Jacobshoeve Bakkum\, Bleumerweg 49\, Bakkum (Castricum)\, Noord-Holland\, 1901 MJ\, Nederland
CATEGORIES:Kind In Evenwicht
ATTACH;FMTTYPE=image/jpeg:https://carlavanwensen.nl/wp-content/uploads/2024/07/Logo_KIE-e1764098464983.jpg
END:VEVENT
BEGIN:VEVENT
DTSTART;TZID=Europe/Amsterdam:20250121T100000
DTEND;TZID=Europe/Amsterdam:20250121T120000
DTSTAMP:20260425T154430
CREATED:20241007T160309Z
LAST-MODIFIED:20241014T141028Z
UID:7476-1737453600-1737460800@carlavanwensen.nl
SUMMARY:Supervisie LOVK Incompany
DESCRIPTION:
URL:https://carlavanwensen.nl/event/supervisie-lovk-incompany/
LOCATION:LOVK Dordrecht
CATEGORIES:Spreker
ATTACH;FMTTYPE=image/png:https://carlavanwensen.nl/wp-content/uploads/2024/10/LOVK-1200x675-1807265468-e1764098120587.png
END:VEVENT
BEGIN:VEVENT
DTSTART;TZID=Europe/Amsterdam:20250121T143900
DTEND;TZID=Europe/Amsterdam:20250121T173000
DTSTAMP:20260425T154430
CREATED:20250109T164827Z
LAST-MODIFIED:20250109T165456Z
UID:7927-1737470340-1737480600@carlavanwensen.nl
SUMMARY:Studiemiddag Stichting Agora Zaandam
DESCRIPTION:
URL:https://carlavanwensen.nl/event/studiemiddag-stichting-agora-zaandam/
CATEGORIES:Spreker
ATTACH;FMTTYPE=image/jpeg:https://carlavanwensen.nl/wp-content/uploads/2025/01/stichting-agora-3230699843.jpg
END:VEVENT
BEGIN:VEVENT
DTSTART;TZID=Europe/Amsterdam:20250124T100000
DTEND;TZID=Europe/Amsterdam:20250124T163000
DTSTAMP:20260425T154430
CREATED:20241007T160735Z
LAST-MODIFIED:20241007T160831Z
UID:7480-1737712800-1737736200@carlavanwensen.nl
SUMMARY:Brein & Bewegen | CKB 27 | 2025 | Hilversum
DESCRIPTION:Driedaagse bijscholing over stress\, trauma\, beschermende reflexen en niet begrepen gedrag (eerder Kinderbrein en bewegen) op basis van het werkboek de ‘Ik-fabriek‘ en ‘Prachtig lastig‘. Wist je dat niet begrepen – of niet gewenst gedrag\, (motorische) ontwikkelingsachterstand\, pijnklachten\, leerproblemen en angst op de loer liggen wanneer het kinderlijf en -brein elkaar niet begrijpen? En wist je dat je aan de manier van bewegen van het kind kunt zien wat er speelt\, wat er ‘mis’ gaat en wat het kind nodig heeft om het makkelijker te maken? In deze driedaagse actieve\, lichaamsgerichte bijscholing ga je zelf het samenspel ervaren tussen het brein\, het lijf\, de invloed van bewegen\, reflexen\, aanraken\, het autonoom zenuwstelsel\, emoties\, hechting en veiligheid. Je leert over de ontwikkeling van het brein\, de ontwikkeling van het bewegen en hoe deze aan elkaar gekoppeld zijn. Vervolgens leer je hoe je niet gewenst gedrag\, niet begrepen fysieke klachten of (leer) ontwikkelingsachterstand kunt beïnvloeden door het kind nieuwe of andere bewegingen/aanrakingen te laten ervaren. Deze manier van werken kan ook (als het gewoon goed gaat met het kind) gebruikt worden om het kind te ondersteunen in zijn ontwikkeling: fysiek\, sociaal-emotioneel en cognitief. \nVoor wie?\nCoaches\, therapeuten en zorgverleners die zich willen verdiepen in lichaamsgericht werken en niet begrepen gedrag\, of niet begrepen pijn. Een vooropleiding op hbo niveau of een hbo werk/denkniveau is vereist. \nWat levert het je op?\nNa deze dagen kun je aan de manier van bewegen van het kind zien waar het fysiek of sociaal-emotioneel vastloopt of een zetje nodig heeft\, waarom het vastloopt en hoe je dit op een positieve manier kunt ondersteunen. Aan de hand van een overzichtelijk schema en voorbeelden uit de praktijk ga je zelf aan de slag met oefeningen\, spelvormen\, massages en coachingtechnieken die je na de workshop direct kunt inzetten. Gebaseerd op de boeken De Ik-fabriek\, Prachtig lastig reflexpatronen en niet begrepen gedrag en Woelig gevoelig \nWat wordt er behandeld?\n\nBreinontwikkeling\nOntwikkeling van bewegingspatronen\nRelatie brein-bewegen-ontwikkelen\nReflexen\, niet geïntegreerde reflexen\nGedrag\, niet begrepen gedrag\, niet begrepen fysieke klachten (SOLK)\, angsten\, veiligheid\, hooggevoeligheid\, ADHD\, ADD\, Pdd-NOS\nHechting\, veiligheid\, (geboorte)trauma\nInterventietechnieken aan de hand van een schema\n\nKosten\n€ 665\,-\, BTW vrijgesteld in verband met CRKBO registratie\, inclusief lunch\, het boek Prachtig lastig\, het werkboek de Ik-fabriek en een werkschema. \nCertificaat\nNa het afronden van deze scholing (100% aanwezigheid) en het gemaakt hebben van een casus\, ontvang je het certificaat: Kinderbrein en bewegen\, Post HBO conform erkend. \nAccreditaties\n\nAccreditatie ADAP (kwaliteitsregister paramedici-vaktherapeuten)\nKTNO\nhet KNGF (individueel aanvragen\, beroepsgerelateerde/vrije deel)\nSKJ\nCAT/GRO register\n\nData CKB 27 Hilversum 2025\n\n10 januari 2025\n24 januari 2025\n7 februari 2025\n\n[aux_button label=”Schrijf je in” size=”medium” icon_align=”left” color_name=”dark-gray” border=”” style=”” link=”https://carlavanwensen.nl/kinderbrein-en-bewegen-de-taal-van-het-kinderlichaam-post-hbo/”]
URL:https://carlavanwensen.nl/event/brein-bewegen-ckb-27-2025-hilversum-vol/
LOCATION:Hilversum\, Nederland
ATTACH;FMTTYPE=image/jpeg:https://carlavanwensen.nl/wp-content/uploads/2024/07/Logo_BreinenBewegen-1-e1768235836859.jpg
END:VEVENT
END:VCALENDAR