BEGIN:VCALENDAR
VERSION:2.0
PRODID:-//Carla van Wensen - ECPv6.15.20//NONSGML v1.0//EN
CALSCALE:GREGORIAN
METHOD:PUBLISH
X-ORIGINAL-URL:https://carlavanwensen.nl
X-WR-CALDESC:Evenementen voor Carla van Wensen
REFRESH-INTERVAL;VALUE=DURATION:PT1H
X-Robots-Tag:noindex
X-PUBLISHED-TTL:PT1H
BEGIN:VTIMEZONE
TZID:Europe/Amsterdam
BEGIN:DAYLIGHT
TZOFFSETFROM:+0100
TZOFFSETTO:+0200
TZNAME:CEST
DTSTART:20250330T010000
END:DAYLIGHT
BEGIN:STANDARD
TZOFFSETFROM:+0200
TZOFFSETTO:+0100
TZNAME:CET
DTSTART:20251026T010000
END:STANDARD
BEGIN:DAYLIGHT
TZOFFSETFROM:+0100
TZOFFSETTO:+0200
TZNAME:CEST
DTSTART:20260329T010000
END:DAYLIGHT
BEGIN:STANDARD
TZOFFSETFROM:+0200
TZOFFSETTO:+0100
TZNAME:CET
DTSTART:20261025T010000
END:STANDARD
BEGIN:DAYLIGHT
TZOFFSETFROM:+0100
TZOFFSETTO:+0200
TZNAME:CEST
DTSTART:20270328T010000
END:DAYLIGHT
BEGIN:STANDARD
TZOFFSETFROM:+0200
TZOFFSETTO:+0100
TZNAME:CET
DTSTART:20271031T010000
END:STANDARD
END:VTIMEZONE
BEGIN:VEVENT
DTSTART;TZID=Europe/Amsterdam:20260109T093000
DTEND;TZID=Europe/Amsterdam:20260109T160000
DTSTAMP:20260424T223007
CREATED:20250524T122921Z
LAST-MODIFIED:20251125T192354Z
UID:8284-1767951000-1767974400@carlavanwensen.nl
SUMMARY:KIE 16 Verdiepingsdag| 2026 | Bakkum
DESCRIPTION:We diepen de twee meest bekende angstreflexen uit- de terugtrekreflex en de Moro-reflex- en gaan ermee aan de slag middels KIE en Neuro-Emotionele Integratie
URL:https://carlavanwensen.nl/event/kie-16-verdiepingsdag-2026-bakkum/
LOCATION:Jacobshoeve Bakkum\, Bleumerweg 49\, Bakkum (Castricum)\, Noord-Holland\, 1901 MJ\, Nederland
ATTACH;FMTTYPE=image/jpeg:https://carlavanwensen.nl/wp-content/uploads/2024/07/Logo_KIE-e1764098464983.jpg
END:VEVENT
BEGIN:VEVENT
DTSTART;TZID=Europe/Amsterdam:20260114T100000
DTEND;TZID=Europe/Amsterdam:20260114T163000
DTSTAMP:20260424T223007
CREATED:20250126T165325Z
LAST-MODIFIED:20260112T161727Z
UID:8011-1768384800-1768408200@carlavanwensen.nl
SUMMARY:KIE 19 level 1
DESCRIPTION:Voor wie?\nBen je therapeut of coach en werk je lichaamsgericht met het kind\, de jongere of de volwassene? Weet of voel je dat de ander emotioneel vastloopt maar kun je niet precies ontdekken wat er speelt? Ben je nieuwsgierig naar de invloed van de pré- en perinatale periode op je handelen in het nu\, en wil je weten hoe deze patronen te doorbreken? Dan is deze scholing\, waarbij je gebruik maakt van technieken uit de toegepaste kinesiologie\, reflexintegratie en NEI (Neuro-emotionele Integratie) misschien iets voor jou. \nWat levert het je op?\nNa deze scholing ben je in staat om samen met diegene waarmee je werkt speels en luchtig te ontdekken waarom hij vastloopt met zijn emoties en gevoelens\, wat de oorzaak is en wat er nodig is om het op te lossen. Vervolgens kun je een bijpassende therapie aanbieden en uitvoeren. Omdat je de lesstof zelf oefent en ervaart\, krijg je veel persoonlijke inzichten mee. \nWat wordt er behandeld?\n\nDe o-ring test (uit de toegepaste kinesiologie)\nNeuro-emotionele Integratie (NEI)\nBreinontwikkeling\nPersoonlijkheidsontwikkeling\nCoaching\nIntegrale geneeskunde: meridianen\, chakra’s\, immuunsysteem en hoe deze te koppelen aan het brein\, het bewegen\, de emoties en het gedrag\, de invloed van prenatale periode\, conceptie\, zwangerschap\, geboorte\, ziekte\, stress en trauma\nInterventie technieken vanuit de reguliere- en andere geneeswijzen\n\nKosten\nLevel 1\n€ 965\,- inclusief vegetarische lunch\, het boek Opgroeien in evenwicht (uitgeverij SWP)\, een manual en flowcharts\, certificaat van deelname\, accreditatie KTNO met 2 EC. Kind in evenwicht is CRKBO geregistreerd en vrijgesteld van BTW. \nVoorwaarden\nEr wordt deze dagen best wat van je gevraagd op persoonlijk vlak. Mocht je hulp hebben van een psycholoog of psychiater kun je daarom ook (nog) niet deelnemen.  Wanneer je je weer in balans voelt\, ben je van harte welkom. \nStudiebelasting\nLevel 1: 5 contactdagen Level 2: 3 contactdagen Daarnaast moet de cursist nog tijd besteden aan het trainen van de spiertest\, het lezen van de bijgeleverde manual en het beschrijven van één casus. \nCertificaat\nNa het behalen van level 1 kun je doorstromen naar level 2. Zodra je zowel level 1 als level 2 hebt afgerond met 100% aanwezigheid en een casus hebt ingeleverd\, word je geregistreerd als KIE-Coach. Je ontvangt dan het KIE-logo\, dat je op je website mag plaatsen. De cursus is geaccrediteerd door het KTNO en geregistreerd bij het CRKBO. Na afloop krijg je toegang tot de Vereniging voor Nei-therapeuten (VVNT)\, waar je je kunt aanmelden als lid. \nAccreditaties\nAccreditatie Level 1 KTNO 2 EC (K10727) Data KIE 19 level 1 | Bakkum \n\n14 januari 2026\n11 februari 2026\n11 maart 2026\n8 april  2026\n20 mei 2026\n\nMaximum aantal deelnemers per groep: 9 \n 
URL:https://carlavanwensen.nl/event/kie-19-level-1/
LOCATION:Jacobshoeve Bakkum\, Bleumerweg 49\, Bakkum (Castricum)\, Noord-Holland\, 1901 MJ\, Nederland
ATTACH;FMTTYPE=image/jpeg:https://carlavanwensen.nl/wp-content/uploads/2024/07/Logo_KIE-e1764098464983.jpg
END:VEVENT
BEGIN:VEVENT
DTSTART;TZID=Europe/Amsterdam:20260116T093000
DTEND;TZID=Europe/Amsterdam:20260116T160000
DTSTAMP:20260424T223007
CREATED:20241007T185646Z
LAST-MODIFIED:20251125T192526Z
UID:7580-1768555800-1768579200@carlavanwensen.nl
SUMMARY:KIE 18 Level 2 | 2026 | Bakkum
DESCRIPTION:In deze tweedaagse module worden de lesstof en de technieken van KIE level 1 verdiept.\nJe leert waar de acupressuurpunten van de meridianen zich op het lichaam bevinden\, met welke emoties ze verbonden zijn en hoe je deze kunt beïnvloeden wanneer je uit balans bent gegaan. Vervolgens leer je hoe je deze kunt integreren\, gebruikmakend van verschillende lichaamsgerichte therapeutische interventies uit zowel de reguliere als complementaire geneeswijzen. \nVoor wie?\nTherapeuten\, zorgverleners en coaches die lichaamsgericht werkzaam zijn met het kind en level 1 hebben afgerond. \nWat levert het je op?\nEen mooie techniek die thuis voortgezet kan worden om de therapie-winst te verankeren. Je ontvangt een nieuw protocol\, een flowchart en een huiswerkschema. Doordat je de interventies van Kind In Evenwicht zelf oefent en ervaart\, krijg je veel persoonlijke inzichten mee. Je leert dus niet alleen een bijzonder effectieve manier van werken met het kind\, persoonlijke bewustwording komt zeker ook aan bod. Nadat je level 1 en level 2 succesvol hebt afgerond\, ben je geregistreerd als KIE-Coach en ontvang je een logo dat je op je website mag plaatsen. \nWat wordt er behandeld?\nDeze dagen leer je werken met emoties\, meridianen en drukpunten. \nKosten\nLevel 2\n€ 375\,- inclusief vegetarische lunch\, een reader en nieuwe flowchart\, certificaat KIE- coach en accreditatie KTNO met 1 EC. Toegang tot de VVNT.nl Kind in evenwicht is CRKBO geregistreerd en vrijgesteld van BTW. Accreditatie Level 2 KTNO 1 EC (K10728) \nVoorwaarden\nEr wordt deze dagen best wat van je gevraagd op persoonlijk vlak. Mocht je hulp hebben van een psycholoog of psychiater kun je daarom ook (nog) niet deelnemen.  Wanneer je je weer in balans voelt\, ben je van harte welkom. \nStudiebelasting\nLevel 1: 5 contactdagen Level 2: 2 contactdagen Daarnaast moet de cursist nog tijd besteden aan het trainen van de spiertest\, het lezen van de bijgeleverde manual en het beschrijven van één casus. \nCertificaat\nNa het behalen van level 1 kun je doorstromen naar level 2. Zodra je zowel level 1 als level 2 hebt afgerond met 100% aanwezigheid en een casus hebt ingeleverd\, word je geregistreerd als KIE-Coach. Je ontvangt dan het KIE-logo\, dat je op je website mag plaatsen. De cursus is geaccrediteerd door het KTNO en geregistreerd bij het CRKBO. Na afloop krijg je toegang tot de Vereniging voor Nei-therapeuten (VVNT)\, waar je je kunt aanmelden als lid. \nAccreditaties\nAccreditatie Level 1 KTNO 2 EC (K10727) Data KIE 16 Level 2 | Bakkum \n\n16 januari 2026\n13 februari 2026\n\n[aux_button label=”Schrijf je in” size=”medium” icon_align=”left” color_name=”dark-gray” border=”” style=”” link=”https://carlavanwensen.nl/kie-level-1-en-level-2/”]
URL:https://carlavanwensen.nl/event/kie-18-level-2-2026-bakkum/
LOCATION:Jacobshoeve Bakkum\, Bleumerweg 49\, Bakkum (Castricum)\, Noord-Holland\, 1901 MJ\, Nederland
CATEGORIES:Kind In Evenwicht
ATTACH;FMTTYPE=image/jpeg:https://carlavanwensen.nl/wp-content/uploads/2024/07/Logo_KIE-e1764098464983.jpg
END:VEVENT
BEGIN:VEVENT
DTSTART;TZID=Europe/Amsterdam:20260123T100000
DTEND;TZID=Europe/Amsterdam:20260123T163000
DTSTAMP:20260424T223007
CREATED:20250209T165925Z
LAST-MODIFIED:20260113T124840Z
UID:8044-1769162400-1769185800@carlavanwensen.nl
SUMMARY:Brein en bewegen | CKB 31 | 2026 | Hilversum
DESCRIPTION:Voor wie?\nCoaches\, therapeuten en zorgverleners die zich willen verdiepen in lichaamsgericht werken en niet begrepen gedrag\, of niet begrepen pijn. Een vooropleiding op hbo niveau of een hbo werk/denkniveau is vereist. \nWat levert het je op?\nNa deze dagen kun je aan de manier van bewegen van het kind zien waar het fysiek of sociaal-emotioneel vastloopt of een zetje nodig heeft\, waarom het vastloopt en hoe je dit op een positieve manier kunt ondersteunen. Aan de hand van een overzichtelijk schema en voorbeelden uit de praktijk ga je zelf aan de slag met oefeningen\, spelvormen\, massages en coachingtechnieken die je na de workshop direct kunt inzetten. Gebaseerd op de boeken De Ik-fabriek\, Prachtig lastig reflexpatronen en niet begrepen gedrag en Woelig gevoelig \n[aux_button label=”Schrijf je in” size=”medium” icon_align=”left” color_name=”dark-gray” border=”” style=”” link=”https://carlavanwensen.nl/kinderbrein-en-bewegen-de-taal-van-het-kinderlichaam-post-hbo/”]
URL:https://carlavanwensen.nl/event/brein-en-bewegen-ckb-31-2026-hilversum/
LOCATION:Hilversum\, Nederland
ATTACH;FMTTYPE=image/jpeg:https://carlavanwensen.nl/wp-content/uploads/2024/07/Logo_BreinenBewegen-e1764082001220.jpg
END:VEVENT
BEGIN:VEVENT
DTSTART;VALUE=DATE:20260126
DTEND;VALUE=DATE:20260127
DTSTAMP:20260424T223007
CREATED:20251125T140207Z
LAST-MODIFIED:20251125T191741Z
UID:8723-1769385600-1769471999@carlavanwensen.nl
SUMMARY:Incompany studiedag SBO HUB Veghel
DESCRIPTION:
URL:https://carlavanwensen.nl/event/incompany-studiedag-sbo-hub-veghel/
LOCATION:Veghel
CATEGORIES:Spreker
ATTACH;FMTTYPE=image/jpeg:https://carlavanwensen.nl/wp-content/uploads/2024/07/Logo_BreinenBewegen-e1764082001220.jpg
END:VEVENT
BEGIN:VEVENT
DTSTART;TZID=Europe/Amsterdam:20260130T100000
DTEND;TZID=Europe/Amsterdam:20260130T163000
DTSTAMP:20260424T223007
CREATED:20250805T080513Z
LAST-MODIFIED:20250805T080513Z
UID:8429-1769767200-1769790600@carlavanwensen.nl
SUMMARY:Verdiepingsdag: reflexen\, wegwijzers van het hart
DESCRIPTION:Verdiepingsdag voor diegenen die eerder de driedaagse brein en bewegen\, over primaire reflexen\, stress en niet begrepen gedrag hebben gevolgd.. \nDeze dag gaan we opnieuw aan de slag met de  reflexen. Je ervaart hoe de bewegingspatronen vragen om een samenspel van het lichaam. Hoe ze zijn opgebouwd uit verschillende deelbewegingen. En wat er gebeurt wanneer dit samenspel niet lukt. Fysiek\, emotioneel\, mentaal\, spiritueel.
URL:https://carlavanwensen.nl/event/verdiepingsdag-reflexen-wegwijzers-van-het-hart-2/
LOCATION:Hilversum\, Nederland
CATEGORIES:Brein & Bewegen
ATTACH;FMTTYPE=image/jpeg:https://carlavanwensen.nl/wp-content/uploads/2024/07/Logo_BreinenBewegen-e1764082001220.jpg
END:VEVENT
END:VCALENDAR