BEGIN:VCALENDAR
VERSION:2.0
PRODID:-//Carla van Wensen - ECPv6.15.20//NONSGML v1.0//EN
CALSCALE:GREGORIAN
METHOD:PUBLISH
X-WR-CALNAME:Carla van Wensen
X-ORIGINAL-URL:https://carlavanwensen.nl
X-WR-CALDESC:Evenementen voor Carla van Wensen
REFRESH-INTERVAL;VALUE=DURATION:PT1H
X-Robots-Tag:noindex
X-PUBLISHED-TTL:PT1H
BEGIN:VTIMEZONE
TZID:Europe/Amsterdam
BEGIN:DAYLIGHT
TZOFFSETFROM:+0100
TZOFFSETTO:+0200
TZNAME:CEST
DTSTART:20250330T010000
END:DAYLIGHT
BEGIN:STANDARD
TZOFFSETFROM:+0200
TZOFFSETTO:+0100
TZNAME:CET
DTSTART:20251026T010000
END:STANDARD
BEGIN:DAYLIGHT
TZOFFSETFROM:+0100
TZOFFSETTO:+0200
TZNAME:CEST
DTSTART:20260329T010000
END:DAYLIGHT
BEGIN:STANDARD
TZOFFSETFROM:+0200
TZOFFSETTO:+0100
TZNAME:CET
DTSTART:20261025T010000
END:STANDARD
BEGIN:DAYLIGHT
TZOFFSETFROM:+0100
TZOFFSETTO:+0200
TZNAME:CEST
DTSTART:20270328T010000
END:DAYLIGHT
BEGIN:STANDARD
TZOFFSETFROM:+0200
TZOFFSETTO:+0100
TZNAME:CET
DTSTART:20271031T010000
END:STANDARD
END:VTIMEZONE
BEGIN:VEVENT
DTSTART;TZID=Europe/Amsterdam:20260603T100000
DTEND;TZID=Europe/Amsterdam:20260603T160000
DTSTAMP:20260424T212842
CREATED:20250702T165856Z
LAST-MODIFIED:20251125T185628Z
UID:8318-1780480800-1780502400@carlavanwensen.nl
SUMMARY:Woelig gevoelig | WG 3 2026 | Hilversum
DESCRIPTION:Tweedaagse bijscholing over beschermende reflexen\, hechting\, veiligheid en niet begrepen gedrag op basis van het werkboek de Ik-fabriek en het boek ‘Prachtig lastig’. Uitgeverij SWP. Ben jij een jeugd- gezinsprofessional? Werk je met het kind met trauma of hechtingsproblematiek en heb je affiniteit met lichaamsgericht werken? Dan is deze tweedaagse scholing misschien iets voor jou. Tijdens deze dagen leer je beschermende reflexen te herkennen en deze te koppelen aan gedrag. Je ontdekt en ervaart zelf hoe deze reflexen gekoppeld zijn aan de breinfuncties en het autonoom zenuwstelsel\, en welke invloed zij hebben op het veilig voelen en hechting. Je leert gedrag beter begrijpen en het waarom ervan te herkennen. Gebaseerd op de boeken De Ik-fabriek\, Prachtig lastig reflexpatronen en niet begrepen gedrag en Woelig gevoelig \nVoor wie?\nJeugd- of gezinsprofessionals zoals bijv. gezinshuisouders\, ambulant begeleiders\, psychologen\, orthopedagogen of IB’ers die zich willen verdiepen in lichaamsgericht werken en niet begrepen gedrag\, of niet begrepen pijn. Een vooropleiding op hbo niveau of een hbo werk/denkniveau is vereist. \nWat levert het je op?\nAan de hand van een werkschema ontwikkel je je diagnostische vaardigheden en krijg je handvatten om effectieve lichaamsgerichte begeleidingsplannen op te stellen\, met interventies in de vorm van beweging en spel. Je gaat zelf met deze lichaamsgerichte tools aan de slag. En leert hoe je deze aan het kind en ouders kunt uitleggen.
URL:https://carlavanwensen.nl/event/woelig-gevoelig-wg-3-2026-hilversum/
ATTACH;FMTTYPE=image/jpeg:https://carlavanwensen.nl/wp-content/uploads/2022/12/Woelig-gevoelig-e1764096972347.jpg
END:VEVENT
BEGIN:VEVENT
DTSTART;TZID=Europe/Amsterdam:20260610T100000
DTEND;TZID=Europe/Amsterdam:20260610T163000
DTSTAMP:20260424T212842
CREATED:20250422T161026Z
LAST-MODIFIED:20251125T193220Z
UID:8189-1781085600-1781109000@carlavanwensen.nl
SUMMARY:KIE 19 level 2 Bakkum
DESCRIPTION:In deze driedaagse module worden de lesstof en de technieken van KIE level 1 verdiept. Deze dagen leer je werken met emoties\, meridianen\, drukpunten en ga je lichaamsgericht aan de slag met de beschermende reflexen
URL:https://carlavanwensen.nl/event/kie-19-level-2-bakkum/
LOCATION:Jacobshoeve Bakkum\, Bleumerweg 49\, Bakkum (Castricum)\, Noord-Holland\, 1901 MJ\, Nederland
CATEGORIES:Kind In Evenwicht
ATTACH;FMTTYPE=image/jpeg:https://carlavanwensen.nl/wp-content/uploads/2024/07/Logo_KIE-e1764098464983.jpg
END:VEVENT
BEGIN:VEVENT
DTSTART;TZID=Europe/Amsterdam:20260617T100000
DTEND;TZID=Europe/Amsterdam:20260617T160000
DTSTAMP:20260424T212842
CREATED:20250702T170432Z
LAST-MODIFIED:20260112T164905Z
UID:8320-1781690400-1781712000@carlavanwensen.nl
SUMMARY:Woelig gevoelig | WG 3 2026 | Hilversum
DESCRIPTION:Tweedaagse bijscholing over beschermende reflexen\, hechting\, veiligheid en niet begrepen gedrag op basis van het werkboek de Ik-fabriek en het boek ‘Prachtig lastig’.
URL:https://carlavanwensen.nl/event/woelig-gevoelig-wg-3-2026-hilversum-2/
LOCATION:Hilversum\, Nederland
ATTACH;FMTTYPE=image/jpeg:https://carlavanwensen.nl/wp-content/uploads/2022/12/Woelig-gevoelig-e1764096972347.jpg
END:VEVENT
BEGIN:VEVENT
DTSTART;TZID=Europe/Amsterdam:20260619T100000
DTEND;TZID=Europe/Amsterdam:20260619T163000
DTSTAMP:20260424T212842
CREATED:20250519T120713Z
LAST-MODIFIED:20260113T121417Z
UID:8256-1781863200-1781886600@carlavanwensen.nl
SUMMARY:KIE 20 level 1 | 2026 | Bakkum
DESCRIPTION:Na deze scholing ben je in staat om speels en luchtig te ontdekken waarom iemand vastloopt met zijn emoties en gevoelens\, wat de oorzaak is en wat er nodig is om het op te lossen. Vervolgens kun je een bijpassende therapie aanbieden en uitvoeren. Omdat je de lesstof zelf oefent en ervaart\, krijg je veel persoonlijke inzichten mee. \nWat wordt er behandeld?\n\nDe o-ring test (uit de toegepaste kinesiologie)\nNeuro-emotionele Integratie (NEI)\nBreinontwikkeling\nPersoonlijkheidsontwikkeling\nCoaching\nIntegrale geneeskunde: meridianen\, chakra’s\, immuunsysteem en hoe deze te koppelen aan het brein\, het bewegen\, de emoties en het gedrag\, de invloed van prenatale periode\, conceptie\, zwangerschap\, geboorte\, ziekte\, stress en trauma\nInterventie technieken vanuit de reguliere- en andere geneeswijzen\n\nAccreditaties\nAccreditatie Level 1 KTNO 2 EC (K10727) Data KIE 20 level 1 | Bakkum \n\n17 april 2026\n29 mei 2026\n19 juni 2026\n11 september 2026\n9 oktober 2026\n\nMaximum aantal deelnemers per groep: 9 \n 
URL:https://carlavanwensen.nl/event/kie-20-level-1-2026-bakkum-2/
ATTACH;FMTTYPE=image/jpeg:https://carlavanwensen.nl/wp-content/uploads/2024/07/Logo_KIE-e1764098464983.jpg
END:VEVENT
BEGIN:VEVENT
DTSTART;VALUE=DATE:20260625
DTEND;VALUE=DATE:20260626
DTSTAMP:20260424T212842
CREATED:20260112T165032Z
LAST-MODIFIED:20260112T165032Z
UID:9027-1782345600-1782431999@carlavanwensen.nl
SUMMARY:Incompany Kentalis
DESCRIPTION:
URL:https://carlavanwensen.nl/event/incompany-kentalis-3/
CATEGORIES:Brein & Bewegen,Spreker
ATTACH;FMTTYPE=image/jpeg:https://carlavanwensen.nl/wp-content/uploads/2024/07/Logo_BreinenBewegen-1-e1768235836859.jpg
END:VEVENT
END:VCALENDAR