BEGIN:VCALENDAR
VERSION:2.0
PRODID:-//Carla van Wensen - ECPv6.15.20//NONSGML v1.0//EN
CALSCALE:GREGORIAN
METHOD:PUBLISH
X-WR-CALNAME:Carla van Wensen
X-ORIGINAL-URL:https://carlavanwensen.nl
X-WR-CALDESC:Evenementen voor Carla van Wensen
REFRESH-INTERVAL;VALUE=DURATION:PT1H
X-Robots-Tag:noindex
X-PUBLISHED-TTL:PT1H
BEGIN:VTIMEZONE
TZID:Europe/Amsterdam
BEGIN:DAYLIGHT
TZOFFSETFROM:+0100
TZOFFSETTO:+0200
TZNAME:CEST
DTSTART:20250330T010000
END:DAYLIGHT
BEGIN:STANDARD
TZOFFSETFROM:+0200
TZOFFSETTO:+0100
TZNAME:CET
DTSTART:20251026T010000
END:STANDARD
BEGIN:DAYLIGHT
TZOFFSETFROM:+0100
TZOFFSETTO:+0200
TZNAME:CEST
DTSTART:20260329T010000
END:DAYLIGHT
BEGIN:STANDARD
TZOFFSETFROM:+0200
TZOFFSETTO:+0100
TZNAME:CET
DTSTART:20261025T010000
END:STANDARD
BEGIN:DAYLIGHT
TZOFFSETFROM:+0100
TZOFFSETTO:+0200
TZNAME:CEST
DTSTART:20270328T010000
END:DAYLIGHT
BEGIN:STANDARD
TZOFFSETFROM:+0200
TZOFFSETTO:+0100
TZNAME:CET
DTSTART:20271031T010000
END:STANDARD
END:VTIMEZONE
BEGIN:VEVENT
DTSTART;TZID=Europe/Amsterdam:20261007T080000
DTEND;TZID=Europe/Amsterdam:20261007T170000
DTSTAMP:20260425T015354
CREATED:20251004T133919Z
LAST-MODIFIED:20260113T122337Z
UID:8485-1791360000-1791392400@carlavanwensen.nl
SUMMARY:Brein en bewegen | CKB 33 | 2026 | Hilversum
DESCRIPTION:Voor wie?\nCoaches\, therapeuten en zorgverleners die zich willen verdiepen in lichaamsgericht werken en niet begrepen gedrag\, of niet begrepen pijn. Een vooropleiding op hbo niveau of een hbo werk/denkniveau is vereist. \nWat levert het je op?\nNa deze dagen kun je aan de manier van bewegen van het kind zien waar het fysiek of sociaal-emotioneel vastloopt of een zetje nodig heeft\, waarom het vastloopt en hoe je dit op een positieve manier kunt ondersteunen. Aan de hand van een overzichtelijk schema en voorbeelden uit de praktijk ga je zelf aan de slag met oefeningen\, spelvormen\, massages en coachingtechnieken die je na de workshop direct kunt inzetten. Gebaseerd op de boeken De Ik-fabriek\, Prachtig lastig reflexpatronen en niet begrepen gedrag en Woelig gevoelig \nData: \n\n9 september 2026\n23 september 2026\n7 oktober 2026
URL:https://carlavanwensen.nl/event/brein-en-bewegen-ckb-33-2026-hilversum-3/
LOCATION:Hilversum\, Nederland
CATEGORIES:Brein & Bewegen,Kind In Evenwicht
ATTACH;FMTTYPE=image/jpeg:https://carlavanwensen.nl/wp-content/uploads/2024/07/Logo_BreinenBewegen-e1764082001220.jpg
END:VEVENT
BEGIN:VEVENT
DTSTART;TZID=Europe/Amsterdam:20261009T100000
DTEND;TZID=Europe/Amsterdam:20261009T163000
DTSTAMP:20260425T015354
CREATED:20250519T121225Z
LAST-MODIFIED:20250519T121225Z
UID:8263-1791540000-1791563400@carlavanwensen.nl
SUMMARY:KIE 20 level 1 | 2026 | Bakkum
DESCRIPTION:Na deze scholing ben je in staat om speels en luchtig te ontdekken waarom iemand vastloopt met zijn emoties en gevoelens\, wat de oorzaak is en wat er nodig is om het op te lossen. Vervolgens kun je een bijpassende therapie aanbieden en uitvoeren. Omdat je de lesstof zelf oefent en ervaart\, krijg je veel persoonlijke inzichten mee. \nWat wordt er behandeld?\n\nDe o-ring test (uit de toegepaste kinesiologie)\nNeuro-emotionele Integratie (NEI)\nBreinontwikkeling\nPersoonlijkheidsontwikkeling\nCoaching\nIntegrale geneeskunde: meridianen\, chakra’s\, immuunsysteem en hoe deze te koppelen aan het brein\, het bewegen\, de emoties en het gedrag\, de invloed van prenatale periode\, conceptie\, zwangerschap\, geboorte\, ziekte\, stress en trauma\nInterventie technieken vanuit de reguliere- en andere geneeswijzen\n\nAccreditaties\nAccreditatie Level 1 KTNO 2 EC (K10727) Data KIE 20 level 1 | Bakkum \n\n17 april 2026\n29 mei 2026\n19 juni 2026\n11 september 2026\n9 oktober 2026\n\nMaximum aantal deelnemers per groep: 9 \n[aux_button label=”Schrijf je in” size=”medium” icon_align=”left” color_name=”dark-gray” border=”” style=”” link=”https://carlavanwensen.nl/kie-level-1-en-level-2/”]
URL:https://carlavanwensen.nl/event/kie-20-level-1-2026-bakkum-4/
LOCATION:Jacobshoeve Bakkum\, Bleumerweg 49\, Bakkum (Castricum)\, Noord-Holland\, 1901 MJ\, Nederland
ATTACH;FMTTYPE=image/jpeg:https://carlavanwensen.nl/wp-content/uploads/2024/07/Logo_KIE-e1764098464983.jpg
END:VEVENT
BEGIN:VEVENT
DTSTART;TZID=Europe/Amsterdam:20261028T080000
DTEND;TZID=Europe/Amsterdam:20261028T170000
DTSTAMP:20260425T015354
CREATED:20251004T121400Z
LAST-MODIFIED:20260113T122439Z
UID:8471-1793174400-1793206800@carlavanwensen.nl
SUMMARY:KIE 21 level 1 | 2026 | Bakkum
DESCRIPTION:Je leert (en ervaart zelf) hoe geblokkeerde gevoelens en emoties op een speelse manier inzichtelijk gemaakt kunnenworden en verwerkt. Je leert hoe vroegkinderlijke (geboorte) trauma’s of verwarrende/heftige gebeurtenissen impact hebben in het nu en maken dat je blokkeert in het denken-voelen-doen. Speels en luchtig kom je tot de kern en doorzie je de belemmerende patronen. Het werkt razendsnel en bijzondere bijkomstigheid is dat herbeleven\, en vertellen over dat wat er was\, niet hoeft. De spieren vertellen het verhaal. \nJe leert werken met NEI (Neuro-Emotionele- Integratie)- de ‘kapstok’ van Kind in evenwicht – en dit te integreren met andere technieken. Omdat je de lesstof zelf oefent en ervaart\, krijg je veel persoonlijke inzichten mee. \nAccreditaties\nAccreditatie Level 1 KTNO 2 EC (K10727) Data KIE 21 level 1 | Bakkum \n\n16 september 2026\n30 september 2026\n28 oktober 2026\n25 november 2026\n16 december 2026\n\nMaximum aantal deelnemers per groep: 9 \n 
URL:https://carlavanwensen.nl/event/kie-21-level-1-2026-bakkum-3/
LOCATION:Jacobshoeve Bakkum\, Bleumerweg 49\, Bakkum (Castricum)\, Noord-Holland\, 1901 MJ\, Nederland
ATTACH;FMTTYPE=image/jpeg:https://carlavanwensen.nl/wp-content/uploads/2024/07/Logo_KIE-e1764098464983.jpg
END:VEVENT
END:VCALENDAR