BEGIN:VCALENDAR
VERSION:2.0
PRODID:-//Carla van Wensen - ECPv6.15.20//NONSGML v1.0//EN
CALSCALE:GREGORIAN
METHOD:PUBLISH
X-ORIGINAL-URL:https://carlavanwensen.nl
X-WR-CALDESC:Evenementen voor Carla van Wensen
REFRESH-INTERVAL;VALUE=DURATION:PT1H
X-Robots-Tag:noindex
X-PUBLISHED-TTL:PT1H
BEGIN:VTIMEZONE
TZID:Europe/Amsterdam
BEGIN:DAYLIGHT
TZOFFSETFROM:+0100
TZOFFSETTO:+0200
TZNAME:CEST
DTSTART:20250330T010000
END:DAYLIGHT
BEGIN:STANDARD
TZOFFSETFROM:+0200
TZOFFSETTO:+0100
TZNAME:CET
DTSTART:20251026T010000
END:STANDARD
BEGIN:DAYLIGHT
TZOFFSETFROM:+0100
TZOFFSETTO:+0200
TZNAME:CEST
DTSTART:20260329T010000
END:DAYLIGHT
BEGIN:STANDARD
TZOFFSETFROM:+0200
TZOFFSETTO:+0100
TZNAME:CET
DTSTART:20261025T010000
END:STANDARD
BEGIN:DAYLIGHT
TZOFFSETFROM:+0100
TZOFFSETTO:+0200
TZNAME:CEST
DTSTART:20270328T010000
END:DAYLIGHT
BEGIN:STANDARD
TZOFFSETFROM:+0200
TZOFFSETTO:+0100
TZNAME:CET
DTSTART:20271031T010000
END:STANDARD
END:VTIMEZONE
BEGIN:VEVENT
DTSTART;TZID=Europe/Amsterdam:20261104T100000
DTEND;TZID=Europe/Amsterdam:20261104T163000
DTSTAMP:20260425T032202
CREATED:20251103T115454Z
LAST-MODIFIED:20260115T095636Z
UID:8632-1793786400-1793809800@carlavanwensen.nl
SUMMARY:Verdiepingsdag\, reflexen wegwijzers van het hart
DESCRIPTION:Verdiepingsdag voor diegenen die eerder de driedaagse brein en bewegen hebben gevolgd. Over primaire reflexen\, stress\, trauma en niet begrepen gedrag. \nDeze dag gaan we opnieuw aan de slag met de  reflexen. Je ervaart hoe de bewegingspatronen vragen om een samenspel van het lichaam. Hoe ze zijn opgebouwd uit verschillende deelbewegingen. En wat er gebeurt wanneer dit samenspel niet lukt. Fysiek\, emotioneel\, mentaal\, spiritueel. \n  \n  \n  \n  \n  \n  \n  \n  \n  \n  \n  \n 
URL:https://carlavanwensen.nl/event/verdiepingsdag-reflexen-wegwijzers-van-het-hart-4/
LOCATION:Hilversum\, Nederland
CATEGORIES:Brein & Bewegen
END:VEVENT
BEGIN:VEVENT
DTSTART;VALUE=DATE:20261111
DTEND;VALUE=DATE:20261112
DTSTAMP:20260425T032202
CREATED:20260113T122816Z
LAST-MODIFIED:20260113T122905Z
UID:9039-1794355200-1794441599@carlavanwensen.nl
SUMMARY:Het kind\, het autonome zenuwstelsel en reflexintegratie
DESCRIPTION:Deze dag geef ik op vraag van het opleidingsinstituut Con Amore. Inschrijven via Con Amore zelf.
URL:https://carlavanwensen.nl/event/het-kind-het-autonome-zenuwstelsel-en-reflexintegratie-2/
ATTACH;FMTTYPE=image/jpeg:https://carlavanwensen.nl/wp-content/uploads/2024/07/Logo_ConAmore-e1764098057857.jpg
END:VEVENT
BEGIN:VEVENT
DTSTART;TZID=Europe/Amsterdam:20261113T100000
DTEND;TZID=Europe/Amsterdam:20261113T163000
DTSTAMP:20260425T032202
CREATED:20250519T121817Z
LAST-MODIFIED:20251125T193715Z
UID:8266-1794564000-1794587400@carlavanwensen.nl
SUMMARY:KIE 20 level 2 | 2026 | Bakkum
DESCRIPTION:In deze driedaagse module worden de lesstof en de technieken van KIE level 1 verdiept. Deze dagen leer je werken met emoties\, meridianen\, drukpunten en ga je lichaamsgericht aan de slag met de beschermende reflexen
URL:https://carlavanwensen.nl/event/kie-20-level-2-2026-bakkum/
LOCATION:Jacobshoeve Bakkum\, Bleumerweg 49\, Bakkum (Castricum)\, Noord-Holland\, 1901 MJ\, Nederland
ATTACH;FMTTYPE=image/jpeg:https://carlavanwensen.nl/wp-content/uploads/2024/07/Logo_KIE-e1764098464983.jpg
END:VEVENT
BEGIN:VEVENT
DTSTART;TZID=Europe/Amsterdam:20261125T080000
DTEND;TZID=Europe/Amsterdam:20261125T170000
DTSTAMP:20260425T032202
CREATED:20251004T121035Z
LAST-MODIFIED:20260113T123027Z
UID:8467-1795593600-1795626000@carlavanwensen.nl
SUMMARY:KIE 21 level 1 | 2026 | Bakkum
DESCRIPTION:Je leert (en ervaart zelf) hoe geblokkeerde gevoelens en emoties op een speelse manier inzichtelijk gemaakt kunnenworden en verwerkt. Je leert hoe vroegkinderlijke (geboorte) trauma’s of verwarrende/heftige gebeurtenissen impact hebben in het nu en maken dat je blokkeert in het denken-voelen-doen. Speels en luchtig kom je tot de kern en doorzie je de belemmerende patronen. Het werkt razendsnel en bijzondere bijkomstigheid is dat herbeleven\, en vertellen over dat wat er was\, niet hoeft. De spieren vertellen het verhaal. \nJe leert werken met NEI (Neuro-Emotionele- Integratie)- de ‘kapstok’ van Kind in evenwicht – en dit te integreren met andere technieken. Omdat je de lesstof zelf oefent en ervaart\, krijg je veel persoonlijke inzichten mee. \nAccreditaties\nAccreditatie Level 1 KTNO 2 EC (K10727) Data KIE 21 level 1 | Bakkum \n\n16 september 2026\n30 september 2026\n28 oktober 2026\n25 november 2026\n16 december 2026\n\nMaximum aantal deelnemers per groep: 9 \n 
URL:https://carlavanwensen.nl/event/kie-21-level-1-2026-bakkum-2/
LOCATION:Jacobshoeve Bakkum\, Bleumerweg 49\, Bakkum (Castricum)\, Noord-Holland\, 1901 MJ\, Nederland
ATTACH;FMTTYPE=image/jpeg:https://carlavanwensen.nl/wp-content/uploads/2024/07/Logo_KIE-e1764098464983.jpg
END:VEVENT
END:VCALENDAR