BEGIN:VCALENDAR
VERSION:2.0
PRODID:-//Carla van Wensen - ECPv6.15.20//NONSGML v1.0//EN
CALSCALE:GREGORIAN
METHOD:PUBLISH
X-ORIGINAL-URL:https://carlavanwensen.nl
X-WR-CALDESC:Evenementen voor Carla van Wensen
REFRESH-INTERVAL;VALUE=DURATION:PT1H
X-Robots-Tag:noindex
X-PUBLISHED-TTL:PT1H
BEGIN:VTIMEZONE
TZID:Europe/Amsterdam
BEGIN:DAYLIGHT
TZOFFSETFROM:+0100
TZOFFSETTO:+0200
TZNAME:CEST
DTSTART:20250330T010000
END:DAYLIGHT
BEGIN:STANDARD
TZOFFSETFROM:+0200
TZOFFSETTO:+0100
TZNAME:CET
DTSTART:20251026T010000
END:STANDARD
BEGIN:DAYLIGHT
TZOFFSETFROM:+0100
TZOFFSETTO:+0200
TZNAME:CEST
DTSTART:20260329T010000
END:DAYLIGHT
BEGIN:STANDARD
TZOFFSETFROM:+0200
TZOFFSETTO:+0100
TZNAME:CET
DTSTART:20261025T010000
END:STANDARD
BEGIN:DAYLIGHT
TZOFFSETFROM:+0100
TZOFFSETTO:+0200
TZNAME:CEST
DTSTART:20270328T010000
END:DAYLIGHT
BEGIN:STANDARD
TZOFFSETFROM:+0200
TZOFFSETTO:+0100
TZNAME:CET
DTSTART:20271031T010000
END:STANDARD
END:VTIMEZONE
BEGIN:VEVENT
DTSTART;TZID=Europe/Amsterdam:20260909T080000
DTEND;TZID=Europe/Amsterdam:20260909T170000
DTSTAMP:20260424T014237
CREATED:20251004T132948Z
LAST-MODIFIED:20260112T155743Z
UID:8481-1788940800-1788973200@carlavanwensen.nl
SUMMARY:Brein en bewegen | CKB 33 | 2026 | Hilversum
DESCRIPTION:Voor wie?\nCoaches\, therapeuten en zorgverleners die zich willen verdiepen in lichaamsgericht werken en niet begrepen gedrag\, of niet begrepen pijn. Een vooropleiding op hbo niveau of een hbo werk/denkniveau is vereist. \nWat levert het je op?\nNa deze dagen kun je aan de manier van bewegen van het kind zien waar het fysiek of sociaal-emotioneel vastloopt of een zetje nodig heeft\, waarom het vastloopt en hoe je dit op een positieve manier kunt ondersteunen. Aan de hand van een overzichtelijk schema en voorbeelden uit de praktijk ga je zelf aan de slag met oefeningen\, spelvormen\, massages en coachingtechnieken die je na de workshop direct kunt inzetten. Gebaseerd op de boeken De Ik-fabriek\, Prachtig lastig reflexpatronen en niet begrepen gedrag en Woelig gevoelig \n  \nData: \n\n9 september 2026\n23 september 2026\n7 oktober 2026\n\n 
URL:https://carlavanwensen.nl/event/brein-en-bewegen-ckb-33-2026-hilversum/
LOCATION:Hilversum\, Nederland
CATEGORIES:Brein & Bewegen,Kind In Evenwicht
ATTACH;FMTTYPE=image/jpeg:https://carlavanwensen.nl/wp-content/uploads/2024/07/Logo_BreinenBewegen-e1764082001220.jpg
END:VEVENT
BEGIN:VEVENT
DTSTART;TZID=Europe/Amsterdam:20260923T080000
DTEND;TZID=Europe/Amsterdam:20260923T170000
DTSTAMP:20260424T014237
CREATED:20251004T133647Z
LAST-MODIFIED:20260113T122148Z
UID:8483-1790150400-1790182800@carlavanwensen.nl
SUMMARY:Brein en bewegen | CKB 33 | 2026 | Hilversum
DESCRIPTION:Voor wie?\nCoaches\, therapeuten en zorgverleners die zich willen verdiepen in lichaamsgericht werken en niet begrepen gedrag\, of niet begrepen pijn. Een vooropleiding op hbo niveau of een hbo werk/denkniveau is vereist. \nWat levert het je op?\nNa deze dagen kun je aan de manier van bewegen van het kind zien waar het fysiek of sociaal-emotioneel vastloopt of een zetje nodig heeft\, waarom het vastloopt en hoe je dit op een positieve manier kunt ondersteunen. Aan de hand van een overzichtelijk schema en voorbeelden uit de praktijk ga je zelf aan de slag met oefeningen\, spelvormen\, massages en coachingtechnieken die je na de workshop direct kunt inzetten. Gebaseerd op de boeken De Ik-fabriek\, Prachtig lastig reflexpatronen en niet begrepen gedrag en Woelig gevoelig \nData: \n\n9 september 2026\n23 september 2026\n7 oktober 2026\n\n 
URL:https://carlavanwensen.nl/event/brein-en-bewegen-ckb-33-2026-hilversum-2/
LOCATION:Hilversum\, Nederland
CATEGORIES:Brein & Bewegen,Kind In Evenwicht
ATTACH;FMTTYPE=image/jpeg:https://carlavanwensen.nl/wp-content/uploads/2024/07/Logo_BreinenBewegen-e1764082001220.jpg
END:VEVENT
BEGIN:VEVENT
DTSTART;TZID=Europe/Amsterdam:20261007T080000
DTEND;TZID=Europe/Amsterdam:20261007T170000
DTSTAMP:20260424T014237
CREATED:20251004T133919Z
LAST-MODIFIED:20260113T122337Z
UID:8485-1791360000-1791392400@carlavanwensen.nl
SUMMARY:Brein en bewegen | CKB 33 | 2026 | Hilversum
DESCRIPTION:Voor wie?\nCoaches\, therapeuten en zorgverleners die zich willen verdiepen in lichaamsgericht werken en niet begrepen gedrag\, of niet begrepen pijn. Een vooropleiding op hbo niveau of een hbo werk/denkniveau is vereist. \nWat levert het je op?\nNa deze dagen kun je aan de manier van bewegen van het kind zien waar het fysiek of sociaal-emotioneel vastloopt of een zetje nodig heeft\, waarom het vastloopt en hoe je dit op een positieve manier kunt ondersteunen. Aan de hand van een overzichtelijk schema en voorbeelden uit de praktijk ga je zelf aan de slag met oefeningen\, spelvormen\, massages en coachingtechnieken die je na de workshop direct kunt inzetten. Gebaseerd op de boeken De Ik-fabriek\, Prachtig lastig reflexpatronen en niet begrepen gedrag en Woelig gevoelig \nData: \n\n9 september 2026\n23 september 2026\n7 oktober 2026
URL:https://carlavanwensen.nl/event/brein-en-bewegen-ckb-33-2026-hilversum-3/
LOCATION:Hilversum\, Nederland
CATEGORIES:Brein & Bewegen,Kind In Evenwicht
ATTACH;FMTTYPE=image/jpeg:https://carlavanwensen.nl/wp-content/uploads/2024/07/Logo_BreinenBewegen-e1764082001220.jpg
END:VEVENT
END:VCALENDAR